Package: bsseq Version: 1.44.1 Command: /home/biocbuild/R/R/bin/R CMD INSTALL bsseq StartedAt: 2025-10-13 20:50:53 -0000 (Mon, 13 Oct 2025) EndedAt: 2025-10-13 20:52:28 -0000 (Mon, 13 Oct 2025) EllapsedTime: 95.2 seconds RetCode: 0 Status: OK