Package: bsseq Version: 1.44.1 Command: /home/biocbuild/R/R/bin/R CMD build --keep-empty-dirs --no-resave-data bsseq StartedAt: 2025-10-13 23:16:54 -0000 (Mon, 13 Oct 2025) EndedAt: 2025-10-13 23:20:25 -0000 (Mon, 13 Oct 2025) EllapsedTime: 211.1 seconds RetCode: 0 Status: OK PackageFile: bsseq_1.44.1.tar.gz PackageFileSize: 2.999 MiB