Package: broadSeq Version: 1.2.4 Command: /home/biocbuild/R/R/bin/R CMD INSTALL broadSeq StartedAt: 2025-10-13 21:08:01 -0000 (Mon, 13 Oct 2025) EndedAt: 2025-10-13 21:08:55 -0000 (Mon, 13 Oct 2025) EllapsedTime: 54.2 seconds RetCode: 0 Status: OK