Package: broadSeq Version: 1.2.4 Command: /home/biocbuild/R/R/bin/R CMD build --keep-empty-dirs --no-resave-data broadSeq StartedAt: 2025-10-13 23:16:23 -0000 (Mon, 13 Oct 2025) EndedAt: 2025-10-13 23:20:03 -0000 (Mon, 13 Oct 2025) EllapsedTime: 220.1 seconds RetCode: 0 Status: OK PackageFile: broadSeq_1.2.4.tar.gz PackageFileSize: 4.008 MiB