Package: breakpointR Version: 1.26.0 Command: /home/biocbuild/R/R/bin/R CMD INSTALL breakpointR StartedAt: 2025-10-13 20:39:16 -0000 (Mon, 13 Oct 2025) EndedAt: 2025-10-13 20:39:58 -0000 (Mon, 13 Oct 2025) EllapsedTime: 42.2 seconds RetCode: 0 Status: OK