Package: breakpointR Version: 1.26.0 Command: /home/biocbuild/R/R/bin/R CMD build --keep-empty-dirs --no-resave-data breakpointR StartedAt: 2025-10-13 23:15:38 -0000 (Mon, 13 Oct 2025) EndedAt: 2025-10-13 23:17:16 -0000 (Mon, 13 Oct 2025) EllapsedTime: 98.0 seconds RetCode: 0 Status: OK PackageFile: breakpointR_1.26.0.tar.gz PackageFileSize: 812.1 KiB