Package: breakpointR Version: 1.26.0 Command: /Library/Frameworks/R.framework/Resources/bin/R CMD build --keep-empty-dirs --no-resave-data breakpointR StartedAt: 2025-10-13 20:18:36 -0400 (Mon, 13 Oct 2025) EndedAt: 2025-10-13 20:20:05 -0400 (Mon, 13 Oct 2025) EllapsedTime: 89.1 seconds RetCode: 0 Status: OK PackageFile: breakpointR_1.26.0.tar.gz PackageFileSize: 819.6 KiB