Package: breakpointR Version: 1.26.0 Command: rm -rf breakpointR.buildbin-libdir && mkdir breakpointR.buildbin-libdir && /Users/biocbuild/BBS/utils/build-universal.sh breakpointR_1.26.0.tar.gz /Library/Frameworks/R.framework/Resources/bin/R breakpointR.buildbin-libdir StartedAt: 2025-10-15 17:39:41 -0400 (Wed, 15 Oct 2025) EndedAt: 2025-10-15 17:40:19 -0400 (Wed, 15 Oct 2025) EllapsedTime: 38.4 seconds RetCode: 0 Status: OK PackageFile: breakpointR_1.26.0.tgz PackageFileSize: 554 KiB