Package: branchpointer Version: 1.34.0 Command: /home/biocbuild/bbs-3.21-bioc/R/bin/R CMD INSTALL branchpointer StartedAt: 2025-10-15 15:34:07 -0400 (Wed, 15 Oct 2025) EndedAt: 2025-10-15 15:35:00 -0400 (Wed, 15 Oct 2025) EllapsedTime: 53.0 seconds RetCode: 0 Status: OK