Package: branchpointer Version: 1.34.0 Command: /home/biocbuild/bbs-3.21-bioc/R/bin/R CMD build --keep-empty-dirs --no-resave-data branchpointer StartedAt: 2025-10-15 16:30:36 -0400 (Wed, 15 Oct 2025) EndedAt: 2025-10-15 16:31:58 -0400 (Wed, 15 Oct 2025) EllapsedTime: 82.1 seconds RetCode: 0 Status: OK PackageFile: branchpointer_1.34.0.tar.gz PackageFileSize: 4.804 MiB