Package: branchpointer Version: 1.34.0 Command: /home/biocbuild/R/R/bin/R CMD INSTALL branchpointer StartedAt: 2025-10-13 20:50:14 -0000 (Mon, 13 Oct 2025) EndedAt: 2025-10-13 20:51:26 -0000 (Mon, 13 Oct 2025) EllapsedTime: 71.5 seconds RetCode: 0 Status: OK