Package: branchpointer Version: 1.34.0 Command: /Library/Frameworks/R.framework/Resources/bin/R CMD check --install=check:branchpointer.install-out.txt --library=/Library/Frameworks/R.framework/Resources/library --no-vignettes --timings branchpointer_1.34.0.tar.gz StartedAt: 2025-10-14 14:44:45 -0400 (Tue, 14 Oct 2025) EndedAt: 2025-10-14 14:51:01 -0400 (Tue, 14 Oct 2025) EllapsedTime: 375.8 seconds RetCode: 0 Status: OK CheckDir: branchpointer.Rcheck Warnings: 0