Package: branchpointer Version: 1.34.0 Command: rm -rf branchpointer.buildbin-libdir && mkdir branchpointer.buildbin-libdir && /Users/biocbuild/BBS/utils/build-universal.sh branchpointer_1.34.0.tar.gz /Library/Frameworks/R.framework/Resources/bin/R branchpointer.buildbin-libdir StartedAt: 2025-10-15 17:39:34 -0400 (Wed, 15 Oct 2025) EndedAt: 2025-10-15 17:40:44 -0400 (Wed, 15 Oct 2025) EllapsedTime: 70.2 seconds RetCode: 0 Status: OK PackageFile: branchpointer_1.34.0.tgz PackageFileSize: 4.319 MiB