Package: blima Version: 1.42.0 Command: /home/biocbuild/R/R/bin/R CMD INSTALL blima StartedAt: 2025-10-13 20:52:48 -0000 (Mon, 13 Oct 2025) EndedAt: 2025-10-13 20:53:22 -0000 (Mon, 13 Oct 2025) EllapsedTime: 34.3 seconds RetCode: 0 Status: OK