Package: blima Version: 1.42.0 Command: /home/biocbuild/R/R/bin/R CMD build --keep-empty-dirs --no-resave-data blima StartedAt: 2025-10-13 23:12:52 -0000 (Mon, 13 Oct 2025) EndedAt: 2025-10-13 23:20:09 -0000 (Mon, 13 Oct 2025) EllapsedTime: 437.1 seconds RetCode: 0 Status: OK PackageFile: blima_1.42.0.tar.gz PackageFileSize: 254.2 KiB