Package: blacksheepr Version: 1.22.0 Command: /home/biocbuild/bbs-3.21-bioc/R/bin/R CMD build --keep-empty-dirs --no-resave-data blacksheepr StartedAt: 2025-10-15 16:28:52 -0400 (Wed, 15 Oct 2025) EndedAt: 2025-10-15 16:31:08 -0400 (Wed, 15 Oct 2025) EllapsedTime: 136.1 seconds RetCode: 0 Status: OK PackageFile: blacksheepr_1.22.0.tar.gz PackageFileSize: 4.225 MiB