Package: blacksheepr Version: 1.22.0 Command: /Library/Frameworks/R.framework/Resources/bin/R CMD INSTALL blacksheepr StartedAt: 2025-10-13 15:58:13 -0400 (Mon, 13 Oct 2025) EndedAt: 2025-10-13 15:59:08 -0400 (Mon, 13 Oct 2025) EllapsedTime: 54.5 seconds RetCode: 0 Status: OK