Package: blacksheepr Version: 1.22.0 Command: rm -rf blacksheepr.buildbin-libdir && mkdir blacksheepr.buildbin-libdir && /Users/biocbuild/BBS/utils/build-universal.sh blacksheepr_1.22.0.tar.gz /Library/Frameworks/R.framework/Resources/bin/R blacksheepr.buildbin-libdir StartedAt: 2025-10-14 12:56:09 -0400 (Tue, 14 Oct 2025) EndedAt: 2025-10-14 12:57:05 -0400 (Tue, 14 Oct 2025) EllapsedTime: 56.4 seconds RetCode: 0 Status: OK PackageFile: blacksheepr_1.22.0.tgz PackageFileSize: 4.285 MiB