Package: blacksheepr Version: 1.22.0 Command: /home/biocbuild/R/R/bin/R CMD build --keep-empty-dirs --no-resave-data blacksheepr StartedAt: 2025-10-13 23:12:37 -0000 (Mon, 13 Oct 2025) EndedAt: 2025-10-13 23:16:23 -0000 (Mon, 13 Oct 2025) EllapsedTime: 226.1 seconds RetCode: 0 Status: OK PackageFile: blacksheepr_1.22.0.tar.gz PackageFileSize: 4.2 MiB