Package: blacksheepr Version: 1.22.0 Command: /Library/Frameworks/R.framework/Resources/bin/R CMD build --keep-empty-dirs --no-resave-data blacksheepr StartedAt: 2025-10-13 20:12:39 -0400 (Mon, 13 Oct 2025) EndedAt: 2025-10-13 20:15:14 -0400 (Mon, 13 Oct 2025) EllapsedTime: 154.6 seconds RetCode: 0 Status: OK PackageFile: blacksheepr_1.22.0.tar.gz PackageFileSize: 4.227 MiB