Package: blacksheepr Version: 1.22.0 Command: rm -rf blacksheepr.buildbin-libdir && mkdir blacksheepr.buildbin-libdir && /Users/biocbuild/BBS/utils/build-universal.sh blacksheepr_1.22.0.tar.gz /Library/Frameworks/R.framework/Resources/bin/R blacksheepr.buildbin-libdir StartedAt: 2025-10-15 17:38:11 -0400 (Wed, 15 Oct 2025) EndedAt: 2025-10-15 17:38:45 -0400 (Wed, 15 Oct 2025) EllapsedTime: 34.1 seconds RetCode: 0 Status: OK PackageFile: blacksheepr_1.22.0.tgz PackageFileSize: 4.285 MiB