Package: biscuiteer Version: 1.22.0 Command: /Library/Frameworks/R.framework/Resources/bin/R CMD build --keep-empty-dirs --no-resave-data biscuiteer StartedAt: 2025-04-21 16:07:21 -0400 (Mon, 21 Apr 2025) EndedAt: 2025-04-21 16:09:27 -0400 (Mon, 21 Apr 2025) EllapsedTime: 125.9 seconds RetCode: 0 Status: OK PackageFile: biscuiteer_1.22.0.tar.gz PackageFileSize: 4.762 MiB