Package: biscuiteer Version: 1.22.0 Command: /home/biocbuild/R/R/bin/R CMD build --keep-empty-dirs --no-resave-data biscuiteer StartedAt: 2025-10-13 23:12:08 -0000 (Mon, 13 Oct 2025) EndedAt: 2025-10-13 23:15:08 -0000 (Mon, 13 Oct 2025) EllapsedTime: 180.0 seconds RetCode: 0 Status: OK PackageFile: biscuiteer_1.22.0.tar.gz PackageFileSize: 4.828 MiB