Package: biomaRt Version: 2.64.0 Command: /home/biocbuild/R/R/bin/R CMD build --keep-empty-dirs --no-resave-data biomaRt StartedAt: 2025-10-13 23:09:03 -0000 (Mon, 13 Oct 2025) EndedAt: 2025-10-13 23:11:42 -0000 (Mon, 13 Oct 2025) EllapsedTime: 159.0 seconds RetCode: 0 Status: OK PackageFile: biomaRt_2.64.0.tar.gz PackageFileSize: 892.9 KiB