Package: biodbChebi Version: 1.14.0 Command: rm -rf biodbChebi.buildbin-libdir && mkdir biodbChebi.buildbin-libdir && /Users/biocbuild/BBS/utils/build-universal.sh biodbChebi_1.14.0.tar.gz /Library/Frameworks/R.framework/Resources/bin/R biodbChebi.buildbin-libdir StartedAt: 2025-04-21 22:27:47 -0400 (Mon, 21 Apr 2025) EndedAt: 2025-04-21 22:27:51 -0400 (Mon, 21 Apr 2025) EllapsedTime: 4.1 seconds RetCode: 0 Status: OK PackageFile: biodbChebi_1.14.0.tgz PackageFileSize: 404.3 KiB