Package: biocroxytest Version: 1.4.0 Command: /home/biocbuild/R/R/bin/R CMD INSTALL biocroxytest StartedAt: 2025-10-13 20:19:21 -0000 (Mon, 13 Oct 2025) EndedAt: 2025-10-13 20:19:45 -0000 (Mon, 13 Oct 2025) EllapsedTime: 23.7 seconds RetCode: 0 Status: OK