Package: biocroxytest Version: 1.4.0 Command: /home/biocbuild/R/R/bin/R CMD build --keep-empty-dirs --no-resave-data biocroxytest StartedAt: 2025-10-13 23:06:56 -0000 (Mon, 13 Oct 2025) EndedAt: 2025-10-13 23:07:05 -0000 (Mon, 13 Oct 2025) EllapsedTime: 9.0 seconds RetCode: 0 Status: OK PackageFile: biocroxytest_1.4.0.tar.gz PackageFileSize: 2.494 MiB