Package: biocroxytest Version: 1.4.0 Command: /Library/Frameworks/R.framework/Resources/bin/R CMD INSTALL biocroxytest StartedAt: 2025-10-13 15:22:10 -0400 (Mon, 13 Oct 2025) EndedAt: 2025-10-13 15:22:24 -0400 (Mon, 13 Oct 2025) EllapsedTime: 13.5 seconds RetCode: 0 Status: OK