Package: biocmake Version: 1.0.1 Command: /home/biocbuild/R/R/bin/R CMD INSTALL biocmake StartedAt: 2025-10-13 20:15:32 -0000 (Mon, 13 Oct 2025) EndedAt: 2025-10-13 20:15:55 -0000 (Mon, 13 Oct 2025) EllapsedTime: 22.3 seconds RetCode: 0 Status: OK