Package: biocmake Version: 1.0.1 Command: /home/biocbuild/R/R/bin/R CMD build --keep-empty-dirs --no-resave-data biocmake StartedAt: 2025-10-13 23:06:36 -0000 (Mon, 13 Oct 2025) EndedAt: 2025-10-13 23:06:43 -0000 (Mon, 13 Oct 2025) EllapsedTime: 7.0 seconds RetCode: 0 Status: OK PackageFile: biocmake_1.0.1.tar.gz PackageFileSize: 246.9 KiB