Package: biocViews Version: 1.76.0 Command: /home/biocbuild/R/R/bin/R CMD INSTALL biocViews StartedAt: 2025-10-13 20:26:23 -0000 (Mon, 13 Oct 2025) EndedAt: 2025-10-13 20:26:34 -0000 (Mon, 13 Oct 2025) EllapsedTime: 11.4 seconds RetCode: 0 Status: OK