Package: biocViews Version: 1.76.0 Command: /home/biocbuild/R/R/bin/R CMD build --keep-empty-dirs --no-resave-data biocViews StartedAt: 2025-10-13 23:08:10 -0000 (Mon, 13 Oct 2025) EndedAt: 2025-10-13 23:08:32 -0000 (Mon, 13 Oct 2025) EllapsedTime: 22.0 seconds RetCode: 0 Status: OK PackageFile: biocViews_1.76.0.tar.gz PackageFileSize: 556.4 KiB