Package: biocGraph Version: 1.70.0 Command: /home/biocbuild/bbs-3.21-bioc/R/bin/R CMD INSTALL biocGraph StartedAt: 2025-10-15 15:27:15 -0400 (Wed, 15 Oct 2025) EndedAt: 2025-10-15 15:27:28 -0400 (Wed, 15 Oct 2025) EllapsedTime: 13.5 seconds RetCode: 0 Status: OK