Package: biocGraph Version: 1.70.0 Command: /home/biocbuild/bbs-3.21-bioc/R/bin/R CMD build --keep-empty-dirs --no-resave-data biocGraph StartedAt: 2025-10-15 16:25:38 -0400 (Wed, 15 Oct 2025) EndedAt: 2025-10-15 16:26:04 -0400 (Wed, 15 Oct 2025) EllapsedTime: 26.0 seconds RetCode: 0 Status: OK PackageFile: biocGraph_1.70.0.tar.gz PackageFileSize: 730.8 KiB