Package: biocGraph Version: 1.70.0 Command: /home/biocbuild/R/R/bin/R CMD INSTALL biocGraph StartedAt: 2025-10-13 20:42:37 -0000 (Mon, 13 Oct 2025) EndedAt: 2025-10-13 20:42:57 -0000 (Mon, 13 Oct 2025) EllapsedTime: 19.6 seconds RetCode: 0 Status: OK