Package: biocGraph Version: 1.70.0 Command: /home/biocbuild/R/R/bin/R CMD build --keep-empty-dirs --no-resave-data biocGraph StartedAt: 2025-10-13 23:06:14 -0000 (Mon, 13 Oct 2025) EndedAt: 2025-10-13 23:06:48 -0000 (Mon, 13 Oct 2025) EllapsedTime: 34.0 seconds RetCode: 0 Status: OK PackageFile: biocGraph_1.70.0.tar.gz PackageFileSize: 717.1 KiB