Package: biocGraph Version: 1.70.0 Command: /Library/Frameworks/R.framework/Resources/bin/R CMD INSTALL biocGraph StartedAt: 2025-10-13 15:50:30 -0400 (Mon, 13 Oct 2025) EndedAt: 2025-10-13 15:50:46 -0400 (Mon, 13 Oct 2025) EllapsedTime: 16.5 seconds RetCode: 0 Status: OK