Package: biobtreeR Version: 1.20.0 Command: /home/biocbuild/R/R/bin/R CMD INSTALL biobtreeR StartedAt: 2025-10-13 20:14:29 -0000 (Mon, 13 Oct 2025) EndedAt: 2025-10-13 20:14:53 -0000 (Mon, 13 Oct 2025) EllapsedTime: 23.5 seconds RetCode: 0 Status: OK