Package: biobtreeR Version: 1.20.0 Command: /home/biocbuild/R/R/bin/R CMD build --keep-empty-dirs --no-resave-data biobtreeR StartedAt: 2025-10-13 23:05:07 -0000 (Mon, 13 Oct 2025) EndedAt: 2025-10-13 23:05:35 -0000 (Mon, 13 Oct 2025) EllapsedTime: 28.0 seconds RetCode: 1 Status: ERROR PackageFile: None PackageFileSize: NA