Package: bioDist Version: 1.80.0 Command: /home/biocbuild/R/R/bin/R CMD build --keep-empty-dirs --no-resave-data bioDist StartedAt: 2025-10-13 23:08:53 -0000 (Mon, 13 Oct 2025) EndedAt: 2025-10-13 23:09:15 -0000 (Mon, 13 Oct 2025) EllapsedTime: 22.0 seconds RetCode: 0 Status: OK PackageFile: bioDist_1.80.0.tar.gz PackageFileSize: 197.6 KiB