Package: bioDist Version: 1.80.0 Command: rm -rf bioDist.buildbin-libdir && mkdir bioDist.buildbin-libdir && /Users/biocbuild/BBS/utils/build-universal.sh bioDist_1.80.0.tar.gz /Library/Frameworks/R.framework/Resources/bin/R bioDist.buildbin-libdir StartedAt: 2025-10-15 17:36:43 -0400 (Wed, 15 Oct 2025) EndedAt: 2025-10-15 17:36:49 -0400 (Wed, 15 Oct 2025) EllapsedTime: 5.7 seconds RetCode: 0 Status: OK PackageFile: bioDist_1.80.0.tgz PackageFileSize: 255.1 KiB