Package: bioCancer Version: 1.36.0 Command: /home/biocbuild/R/R/bin/R CMD INSTALL bioCancer StartedAt: 2025-10-13 21:09:03 -0000 (Mon, 13 Oct 2025) EndedAt: 2025-10-13 21:10:18 -0000 (Mon, 13 Oct 2025) EllapsedTime: 75.5 seconds RetCode: 0 Status: OK