Package: beadarray Version: 2.58.0 Command: chmod a+r beadarray -R && E:\biocbuild\bbs-3.21-bioc\R\bin\R.exe CMD build --keep-empty-dirs --no-resave-data beadarray StartedAt: 2025-08-14 17:31:02 -0400 (Thu, 14 Aug 2025) EndedAt: 2025-08-14 17:36:59 -0400 (Thu, 14 Aug 2025) EllapsedTime: 356.6 seconds RetCode: 0 Status: OK PackageFile: beadarray_2.58.0.tar.gz PackageFileSize: 2.623 MiB