Package: beadarray Version: 2.58.0 Command: /home/biocbuild/bbs-3.21-bioc/R/bin/R CMD build --keep-empty-dirs --no-resave-data beadarray StartedAt: 2025-10-15 16:20:50 -0400 (Wed, 15 Oct 2025) EndedAt: 2025-10-15 16:23:31 -0400 (Wed, 15 Oct 2025) EllapsedTime: 161.1 seconds RetCode: 0 Status: OK PackageFile: beadarray_2.58.0.tar.gz PackageFileSize: 3.744 MiB