Package: beadarray Version: 2.58.0 Command: /Library/Frameworks/R.framework/Resources/bin/R CMD INSTALL beadarray StartedAt: 2025-10-13 15:54:00 -0400 (Mon, 13 Oct 2025) EndedAt: 2025-10-13 15:55:01 -0400 (Mon, 13 Oct 2025) EllapsedTime: 61.0 seconds RetCode: 0 Status: OK