Package: beadarray Version: 2.58.0 Command: /Library/Frameworks/R.framework/Resources/bin/R CMD build --keep-empty-dirs --no-resave-data beadarray StartedAt: 2025-10-13 17:15:56 -0400 (Mon, 13 Oct 2025) EndedAt: 2025-10-13 17:22:38 -0400 (Mon, 13 Oct 2025) EllapsedTime: 401.8 seconds RetCode: 0 Status: OK PackageFile: beadarray_2.58.0.tar.gz PackageFileSize: 4.249 MiB