Package: beadarray Version: 2.58.0 Command: rm -rf beadarray.buildbin-libdir && mkdir beadarray.buildbin-libdir && /Users/biocbuild/BBS/utils/build-universal.sh beadarray_2.58.0.tar.gz /Library/Frameworks/R.framework/Resources/bin/R beadarray.buildbin-libdir StartedAt: 2025-10-14 12:53:25 -0400 (Tue, 14 Oct 2025) EndedAt: 2025-10-14 12:54:35 -0400 (Tue, 14 Oct 2025) EllapsedTime: 69.8 seconds RetCode: 0 Status: OK PackageFile: beadarray_2.58.0.tgz PackageFileSize: 6.397 MiB