Package: beadarray Version: 2.58.0 Command: /home/biocbuild/R/R/bin/R CMD INSTALL beadarray StartedAt: 2025-10-13 20:44:48 -0000 (Mon, 13 Oct 2025) EndedAt: 2025-10-13 20:45:26 -0000 (Mon, 13 Oct 2025) EllapsedTime: 38.0 seconds RetCode: 0 Status: OK