Package: beadarray Version: 2.58.0 Command: /Library/Frameworks/R.framework/Resources/bin/R CMD build --keep-empty-dirs --no-resave-data beadarray StartedAt: 2025-10-13 19:44:29 -0400 (Mon, 13 Oct 2025) EndedAt: 2025-10-13 19:48:09 -0400 (Mon, 13 Oct 2025) EllapsedTime: 220.6 seconds RetCode: 0 Status: OK PackageFile: beadarray_2.58.0.tar.gz PackageFileSize: 4.294 MiB