Package: bcSeq Version: 1.30.0 Command: /home/biocbuild/R/R/bin/R CMD INSTALL bcSeq StartedAt: 2025-10-13 20:27:47 -0000 (Mon, 13 Oct 2025) EndedAt: 2025-10-13 20:28:39 -0000 (Mon, 13 Oct 2025) EllapsedTime: 52.1 seconds RetCode: 0 Status: OK